BEGIN:VCALENDAR
VERSION:2.0
PRODID:-//Volksmusikverein Landshut - ECPv6.15.20//NONSGML v1.0//EN
CALSCALE:GREGORIAN
METHOD:PUBLISH
X-ORIGINAL-URL:https://volksmusikverein-landshut.de
X-WR-CALDESC:Veranstaltungen für Volksmusikverein Landshut
REFRESH-INTERVAL;VALUE=DURATION:PT1H
X-Robots-Tag:noindex
X-PUBLISHED-TTL:PT1H
BEGIN:VTIMEZONE
TZID:Europe/Berlin
BEGIN:DAYLIGHT
TZOFFSETFROM:+0100
TZOFFSETTO:+0200
TZNAME:CEST
DTSTART:20250330T010000
END:DAYLIGHT
BEGIN:STANDARD
TZOFFSETFROM:+0200
TZOFFSETTO:+0100
TZNAME:CET
DTSTART:20251026T010000
END:STANDARD
BEGIN:DAYLIGHT
TZOFFSETFROM:+0100
TZOFFSETTO:+0200
TZNAME:CEST
DTSTART:20260329T010000
END:DAYLIGHT
BEGIN:STANDARD
TZOFFSETFROM:+0200
TZOFFSETTO:+0100
TZNAME:CET
DTSTART:20261025T010000
END:STANDARD
BEGIN:DAYLIGHT
TZOFFSETFROM:+0100
TZOFFSETTO:+0200
TZNAME:CEST
DTSTART:20270328T010000
END:DAYLIGHT
BEGIN:STANDARD
TZOFFSETFROM:+0200
TZOFFSETTO:+0100
TZNAME:CET
DTSTART:20271031T010000
END:STANDARD
END:VTIMEZONE
BEGIN:VEVENT
DTSTART;TZID=Europe/Berlin:20260418T200000
DTEND;TZID=Europe/Berlin:20260418T200000
DTSTAMP:20260422T120955
CREATED:20260120T121044Z
LAST-MODIFIED:20260221T100223Z
UID:1133-1776542400-1776542400@volksmusikverein-landshut.de
SUMMARY:Frühjahrsvolkstanz Nandlstadt
DESCRIPTION:mit der Tanzlmusi Maschant
URL:https://volksmusikverein-landshut.de/event/fruehjahrsvolkstanz-mit-der-tanzlmusi-maschant/
LOCATION:Hopfenhalle Nandlstadt\, Bahnhofstr. 6\, Nandlstadt\, 85405
CATEGORIES:Volkstanz
END:VEVENT
BEGIN:VEVENT
DTSTART;TZID=Europe/Berlin:20260418T200000
DTEND;TZID=Europe/Berlin:20260418T200000
DTSTAMP:20260422T120956
CREATED:20260116T200259Z
LAST-MODIFIED:20260116T200259Z
UID:1093-1776542400-1776542400@volksmusikverein-landshut.de
SUMMARY:Oster Volkstanz\, Blaskapelle De Andern
DESCRIPTION:
URL:https://volksmusikverein-landshut.de/event/oster-volkstanz-blaskapelle-de-andern/
LOCATION:Landgasthof Schmid Wolferszell\, Chamer Straße 1\, Steinach / Wolferszell\, 94377
CATEGORIES:Volkstanz
END:VEVENT
BEGIN:VEVENT
DTSTART;TZID=Europe/Berlin:20260418T180000
DTEND;TZID=Europe/Berlin:20260418T180000
DTSTAMP:20260422T120956
CREATED:20260218T181654Z
LAST-MODIFIED:20260218T182111Z
UID:1240-1776535200-1776535200@volksmusikverein-landshut.de
SUMMARY:Gesamtbayerisches Tanzfest
DESCRIPTION:Aigridschn Musi/Inngau\, Gautrachtenkapelle Beratzhausen/Opf.\, Schlapperflicker Musikanten/Ufr \ndazwischen Auftritte von Gaugruppen aus dem bayer. Trachtenverband. \n 
URL:https://volksmusikverein-landshut.de/event/gesamtbayerisches-tanzfest/
LOCATION:Rampl-Festhalle Hinterskirchen\, Hinterskirchen 16\, Neufraunhofen\, 84181
CATEGORIES:Volkstanz
END:VEVENT
BEGIN:VEVENT
DTSTART;TZID=Europe/Berlin:20260417T200000
DTEND;TZID=Europe/Berlin:20260417T200000
DTSTAMP:20260422T120956
CREATED:20260116T195837Z
LAST-MODIFIED:20260221T100100Z
UID:1091-1776456000-1776456000@volksmusikverein-landshut.de
SUMMARY:Volkstanz mit Vortanzen
DESCRIPTION:Draufgeiger
URL:https://volksmusikverein-landshut.de/event/volkstanz-draufgeiger/
LOCATION:Gasthaus Putz Obervilslern\, Dorfstraße 10\, Obervilslern bei Velden a.d. Vils\, 84149
CATEGORIES:Volkstanz
END:VEVENT
BEGIN:VEVENT
DTSTART;TZID=Europe/Berlin:20260405T200000
DTEND;TZID=Europe/Berlin:20260405T200000
DTSTAMP:20260422T120956
CREATED:20260116T195320Z
LAST-MODIFIED:20260116T195320Z
UID:1087-1775419200-1775419200@volksmusikverein-landshut.de
SUMMARY:Ostervolkstanz\, Ampertaler Kirtamusi
DESCRIPTION:
URL:https://volksmusikverein-landshut.de/event/ostervolkstanz-ampertaler-kirtamusi/
LOCATION:Stadthalle Roding\, Chamer Steig 1\, Roding\, 93426
CATEGORIES:Volkstanz
END:VEVENT
BEGIN:VEVENT
DTSTART;TZID=Europe/Berlin:20260405T200000
DTEND;TZID=Europe/Berlin:20260405T200000
DTSTAMP:20260422T120956
CREATED:20251231T125102Z
LAST-MODIFIED:20260221T095257Z
UID:818-1775419200-1775419200@volksmusikverein-landshut.de
SUMMARY:Oster-Volkstanz Rottenburg
DESCRIPTION:Tanngrindler Musikanten
URL:https://volksmusikverein-landshut.de/event/volkstanz-tanngrinntler-musikanten/
LOCATION:Gasthaus Eigenstetter Rottenburg\, Marktstr. 19\, Rottenburg\, 84056
CATEGORIES:Volkstanz
END:VEVENT
BEGIN:VEVENT
DTSTART;TZID=Europe/Berlin:20260405T200000
DTEND;TZID=Europe/Berlin:20260405T200000
DTSTAMP:20260422T120956
CREATED:20251231T124009Z
LAST-MODIFIED:20251231T124009Z
UID:808-1775419200-1775419200@volksmusikverein-landshut.de
SUMMARY:Ostertanz\, Dorfner Musi
DESCRIPTION:
URL:https://volksmusikverein-landshut.de/event/ostertanz-dorfner-musi/
LOCATION:Kursaal Eging am See\, Mühlbergstr. 5\, Eging am See\, 94535
CATEGORIES:Volkstanz
END:VEVENT
BEGIN:VEVENT
DTSTART;TZID=Europe/Berlin:20260328T200000
DTEND;TZID=Europe/Berlin:20260328T200000
DTSTAMP:20260422T120956
CREATED:20260210T182927Z
LAST-MODIFIED:20260210T182927Z
UID:1216-1774728000-1774728000@volksmusikverein-landshut.de
SUMMARY:Hoagarten Heimat- u. Trachtenverein Adlkofen
DESCRIPTION:
URL:https://volksmusikverein-landshut.de/event/hoagarten-heimat-u-trachtenverein-adlkofen/
CATEGORIES:Hoagarten
END:VEVENT
BEGIN:VEVENT
DTSTART;TZID=Europe/Berlin:20260320T193000
DTEND;TZID=Europe/Berlin:20260320T213000
DTSTAMP:20260422T120956
CREATED:20260107T155833Z
LAST-MODIFIED:20260218T191114Z
UID:899-1774035000-1774042200@volksmusikverein-landshut.de
SUMMARY:Mitgliederversammlung des Volksmusikverein Landshut
DESCRIPTION:Tagesordnung: \n\nBegrüßung und Tätigkeitsbericht des 1. Vorsitzenden mit Totengedenken\nVorstellung der Neumitglieder\nFeststellung des Stimmrechts\nVorlesen des Protokolls der letzten Mitgliederversammlung vom 25. April 2025\nBericht des Schatzmeisters\nRevisionsbericht\nVorstellung der neuen Homepage\nVorschau auf das Jahr 2026\nEntlastung des Vorstands\nWiederholung der Abstimmung über den Antrag zur Satzungsänderung aus der außerordentlichen Mitgliederversammlung vom 25. April 2025\n(siehe https://volksmusikverein-landshut.de/satzung-neu/)\nBildung eines Wahlausschusses\nNachwahl der ausstehenden Vorstandschaftsmitglieder\nDiskussion und Abstimmung über eine Anpassung des Mitgliederbeitrags\nBeschlussfassung über gestellte Anträge gemäß § 10 III der Satzung\nWünsche und Anträge\nEhrungen
URL:https://volksmusikverein-landshut.de/event/mitgliederversammlung/
LOCATION:Gasthaus Angstl Postau\, Hauptstraße 26\, Postau\, 84103
CATEGORIES:Versammlung
END:VEVENT
BEGIN:VEVENT
DTSTART;TZID=Europe/Berlin:20260307T193000
DTEND;TZID=Europe/Berlin:20260307T220000
DTSTAMP:20260422T120956
CREATED:20260210T184819Z
LAST-MODIFIED:20260223T184927Z
UID:1228-1772911800-1772920800@volksmusikverein-landshut.de
SUMMARY:Couplet- und Gstanzlsingen
DESCRIPTION:
URL:https://volksmusikverein-landshut.de/event/couplet-und-gstanzlsingen/
LOCATION:Capra – Gaststätte Geisenbrunn\, Tonwerkstr. 3\, Gilching\, 82205
CATEGORIES:Offenes Singen
END:VEVENT
BEGIN:VEVENT
DTSTART;TZID=Europe/Berlin:20260307T180000
DTEND;TZID=Europe/Berlin:20260307T180000
DTSTAMP:20260422T120956
CREATED:20251230T170731Z
LAST-MODIFIED:20251230T170934Z
UID:780-1772906400-1772906400@volksmusikverein-landshut.de
SUMMARY:Tanzlmusitreffen und Tanz
DESCRIPTION:15 Jahre Junge Oarkarrer Musi\, weitere Gruppen: Köllakuchlmusi\, Alpenblick Quintett\, Brotzeitmusi\nab 22 Uhr mir Barbetrieb\nnur mit Reservierung\, 0170/4719547
URL:https://volksmusikverein-landshut.de/event/tanzlmusitreffen-und-tanz/
LOCATION:Hamberg Heuboden\, Hamberg 1\, Aschau am Inn\, 84544
CATEGORIES:Seminar,Volkstanz
END:VEVENT
BEGIN:VEVENT
DTSTART;TZID=Europe/Berlin:20260221T090000
DTEND;TZID=Europe/Berlin:20260222T153000
DTSTAMP:20260422T120956
CREATED:20260210T184327Z
LAST-MODIFIED:20260210T184327Z
UID:1224-1771664400-1771774200@volksmusikverein-landshut.de
SUMMARY:Volksmusikseminar Altenmarkt 2026
DESCRIPTION:flyer2026_formular.pdf
URL:https://volksmusikverein-landshut.de/event/volksmusikseminar-altenmarkt-2026/
LOCATION:Volksschule Altenmarkt\, Schulweg 15\, Altenmarkt an der Alz\, 83352
CATEGORIES:Seminar
END:VEVENT
BEGIN:VEVENT
DTSTART;TZID=Europe/Berlin:20260220T030000
DTEND;TZID=Europe/Berlin:20260223T025959
DTSTAMP:20260422T120956
CREATED:20251230T161834Z
LAST-MODIFIED:20260119T214321Z
UID:752-1771556400-1771815599@volksmusikverein-landshut.de
SUMMARY:Forschungsseminar "Wem gehört Volksmusik"
DESCRIPTION:Im Mittelpunkt stehen Fragen nach kultureller Zugehörigkeit\, künstlerischer Aneignung\, rechtsextremer Vereinnahmung\, Integration durch Musik\, und der Rolle von Künstlicher Intelligenz im Kontext traditioneller Musikformen. \nNeben Vorträgen und Diskussionen erwarten Sie auch Praxisbeispiele und -seminare\, die zur aktiven Auseinandersetzung einladen. Ob Wissenschaft\, Musikpraxis oder Vermittlung\, dieses Seminar bringt Akteurinnen und Akteure aus Forschung und Praxis zusammen.\nDas detaillierte Programm finden Sie hier: https://www.heimat-bayern.de/wp-content/uploads/2025/05/Programm-1.pdf\, die Anmeldung hier: https://www.heimat-bayern.de/veranstaltungen/wem-gehoert-volksmusik/
URL:https://volksmusikverein-landshut.de/event/forschungsseminar-wem-gehoert-volksmusik/
CATEGORIES:Seminar
END:VEVENT
BEGIN:VEVENT
DTSTART;TZID=Europe/Berlin:20260216T200000
DTEND;TZID=Europe/Berlin:20260216T200000
DTSTAMP:20260422T120956
CREATED:20260119T215036Z
LAST-MODIFIED:20260120T122931Z
UID:1112-1771272000-1771272000@volksmusikverein-landshut.de
SUMMARY:Maschkera-Volkstanz
DESCRIPTION:mit Oarkarrer Musi und Junge Oarkarrer Musi
URL:https://volksmusikverein-landshut.de/event/volkstanz-rampl/
LOCATION:Gasthaus Rampl Hinterskirchen\, Hinterskirchen16\, Neufraunhofen\, 84181
CATEGORIES:Volkstanz
END:VEVENT
BEGIN:VEVENT
DTSTART;TZID=Europe/Berlin:20260214T200000
DTEND;TZID=Europe/Berlin:20260214T200000
DTSTAMP:20260422T120956
CREATED:20251230T165338Z
LAST-MODIFIED:20251230T170840Z
UID:775-1771099200-1771099200@volksmusikverein-landshut.de
SUMMARY:Bürgerball
DESCRIPTION:Straubinger Salonorchester
URL:https://volksmusikverein-landshut.de/event/buergerball/
LOCATION:Hotel Jungbräu Abensberg\, Weinberger Str. 8\, Abenberg\, 93326
CATEGORIES:Volkstanz
END:VEVENT
BEGIN:VEVENT
DTSTART;TZID=Europe/Berlin:20260214T200000
DTEND;TZID=Europe/Berlin:20260214T200000
DTSTAMP:20260422T120956
CREATED:20251230T164246Z
LAST-MODIFIED:20260120T123114Z
UID:768-1771099200-1771099200@volksmusikverein-landshut.de
SUMMARY:Redoute Ball-annodazumal
DESCRIPTION:Es spielt das Salonorchester Hohenpolding
URL:https://volksmusikverein-landshut.de/event/redoute-mit-dem-dorfener-ballorchester/
LOCATION:Isen Klementsaal\, Münchner Straße 3\, Isen\, 84424
CATEGORIES:Volkstanz
END:VEVENT
BEGIN:VEVENT
DTSTART;TZID=Europe/Berlin:20260207T200000
DTEND;TZID=Europe/Berlin:20260207T200000
DTSTAMP:20260422T120956
CREATED:20251107T155241Z
LAST-MODIFIED:20260119T221921Z
UID:281-1770494400-1770494400@volksmusikverein-landshut.de
SUMMARY:Maschkera Volkstanz des Volksmusikverein Landshut
DESCRIPTION:Maschkera Volkstanz mit den Bruckberger Dorfschmiedmusikanten und der Freydenker Tanzlmusi\nEntritt: 12 €\, 10€  für Mitglieder
URL:https://volksmusikverein-landshut.de/event/maschkera-volkstanz/
LOCATION:Gasthaus Betz Oberglaim\, Oberglaim 15\, Oberglaim\, Bayern\, 84030\, Germany
CATEGORIES:Volkstanz
END:VEVENT
BEGIN:VEVENT
DTSTART;TZID=Europe/Berlin:20260204T193000
DTEND;TZID=Europe/Berlin:20260204T210000
DTSTAMP:20260422T120956
CREATED:20260109T160841Z
LAST-MODIFIED:20260110T143150Z
UID:910-1770233400-1770238800@volksmusikverein-landshut.de
SUMMARY:Francaiseübungsabend
DESCRIPTION:Francaiseübungsabend für den Maschkara Volkstanz am 7.2.
URL:https://volksmusikverein-landshut.de/event/francaiseuebungsabend/
LOCATION:Sportheim Gündlkofen\, Dekan-Hort-Straße 40\, Bruckberg\, 84079
CATEGORIES:Volkstanz
END:VEVENT
BEGIN:VEVENT
DTSTART;TZID=Europe/Berlin:20260131T200000
DTEND;TZID=Europe/Berlin:20260131T200000
DTSTAMP:20260422T120956
CREATED:20260116T194552Z
LAST-MODIFIED:20260116T194552Z
UID:1082-1769889600-1769889600@volksmusikverein-landshut.de
SUMMARY:Faschingsvolkstanz\, Blaskapelle De Andern
DESCRIPTION:
URL:https://volksmusikverein-landshut.de/event/faschingsvolkstanz-blaskapelle-de-andern/
LOCATION:Landgasthof Schmid Wolferszell\, Chamer Straße 1\, Steinach / Wolferszell\, 94377
CATEGORIES:Volkstanz
END:VEVENT
BEGIN:VEVENT
DTSTART;TZID=Europe/Berlin:20260131T200000
DTEND;TZID=Europe/Berlin:20260131T200000
DTSTAMP:20260422T120956
CREATED:20251231T123830Z
LAST-MODIFIED:20260116T193838Z
UID:806-1769889600-1769889600@volksmusikverein-landshut.de
SUMMARY:"Bruder Straubinger lädt zum Tanz"\, Straubinger Ballorchester & Straubinger Salonmusik
DESCRIPTION:Erleben Sie einen nostalgischen Tanzabend in Anlehnung an die festlichen Faschingsbälle vor 100 Jahren. Das Straubinger Ballorchester unter der Leitung von Franz Schötz und die Straubinger Salonmusik unter der Leitung von Stephan Mutz locken mit schwungvoller Tanzmusik und bezaubernden Evergreens aus vergangenen Zeiten aufs Parkett. Tickets ab jetzt unter www.okticket.de.
URL:https://volksmusikverein-landshut.de/event/tanzabend-straubinger-ballorchester/
LOCATION:Geiselhöringer Hof\, Straubinger Str. 10\, Geiselhöring\, 94333
CATEGORIES:Volkstanz
END:VEVENT
BEGIN:VEVENT
DTSTART;TZID=Europe/Berlin:20260131T193000
DTEND;TZID=Europe/Berlin:20260131T193000
DTSTAMP:20260422T120956
CREATED:20260116T203329Z
LAST-MODIFIED:20260116T203329Z
UID:1108-1769887800-1769887800@volksmusikverein-landshut.de
SUMMARY:Liachtmess - Tanz\, Jausengeiger und Loahmbergmusi
DESCRIPTION:
URL:https://volksmusikverein-landshut.de/event/liachtmess-tanz-jausengeiger-und-loahmbergmusi/
LOCATION:Landgasthof Frohnstetten\, Unterfrohnstetten 20\, Hengersberg\, 94491
CATEGORIES:Volkstanz
END:VEVENT
BEGIN:VEVENT
DTSTART;TZID=Europe/Berlin:20260130T200000
DTEND;TZID=Europe/Berlin:20260130T200000
DTSTAMP:20260422T120956
CREATED:20251231T123721Z
LAST-MODIFIED:20251231T130418Z
UID:804-1769803200-1769803200@volksmusikverein-landshut.de
SUMMARY:Bayerischer Tanzabend\, Oideisenmusi
DESCRIPTION:
URL:https://volksmusikverein-landshut.de/event/bayerischer-tanzabend-oideisenmusi/
LOCATION:Gasthaus Schnaitl Wang\, Schützenstr. 7\, Wang\, 85368
CATEGORIES:Volkstanz
END:VEVENT
BEGIN:VEVENT
DTSTART;TZID=Europe/Berlin:20260129T193000
DTEND;TZID=Europe/Berlin:20260129T193000
DTSTAMP:20260422T120956
CREATED:20251230T155358Z
LAST-MODIFIED:20251230T160100Z
UID:734-1769715000-1769715000@volksmusikverein-landshut.de
SUMMARY:Gemeinsames Singen mit Ernst Schusser
DESCRIPTION:Lieder von Dreikönig bis Fasching \nVolksmusikpflege Landkreis Landshut
URL:https://volksmusikverein-landshut.de/event/gemeinsames-singen-mit-ernst-schusser/
LOCATION:Gasthaus Neumeier Holzhausen\, Holzhausen 2\, Geisenhausen\, 84144
CATEGORIES:Offenes Singen
END:VEVENT
BEGIN:VEVENT
DTSTART;TZID=Europe/Berlin:20260123T030000
DTEND;TZID=Europe/Berlin:20260126T025959
DTSTAMP:20260422T120956
CREATED:20251230T162732Z
LAST-MODIFIED:20260120T082911Z
UID:759-1769137200-1769396399@volksmusikverein-landshut.de
SUMMARY:Jugend- und Familienvolksmusikseminar
DESCRIPTION:Referenten: Eva Eixenberger\, Christine Hammer\, Verena Neuhofer\, Benedikt Brunner\, Michaela Lehner\, Willi Bauer\, Maria Wimmer \nInfo: https://volksmusikverein-landshut.de/wp-content/uploads/Seminare/Einladung-Sing-u.-Tanzwochenende-2026.pdf\nAnmeldeformular: https://volksmusikverein-landshut.de/wp-content/uploads/Seminare/Anmeldezettel-Thalhausen-2026.pdf
URL:https://volksmusikverein-landshut.de/event/759/
LOCATION:Jugendhaus St. Anna – Thalhausen\, Holnsteinallee 20\, Thalhausen\, 85402
CATEGORIES:Seminar
END:VEVENT
BEGIN:VEVENT
DTSTART;TZID=Europe/Berlin:20260117T200000
DTEND;TZID=Europe/Berlin:20260117T200000
DTSTAMP:20260422T120956
CREATED:20251231T123620Z
LAST-MODIFIED:20251231T130526Z
UID:802-1768680000-1768680000@volksmusikverein-landshut.de
SUMMARY:Volkstanz\, Oarkarrer Tanzlmusi
DESCRIPTION:
URL:https://volksmusikverein-landshut.de/event/volkstanz-oarkarrer-tanzlmusi/
LOCATION:Wendlandhaus Hohenlinden\, Am Niederfeld 10\, Hohenlinden\, 85664
CATEGORIES:Volkstanz
END:VEVENT
END:VCALENDAR